BEGIN:VCALENDAR
VERSION:2.0
PRODID:-//wp-events-plugin.com//7.2.3.1//EN
TZID:Asia/Tokyo
X-WR-TIMEZONE:Asia/Tokyo
BEGIN:VEVENT
UID:58@xn--sdkxbl4d.club
DTSTART;TZID=Asia/Tokyo;VALUE=DATE:20230611
DTEND;TZID=Asia/Tokyo;VALUE=DATE:20230612
DTSTAMP:20230604T133445Z
URL:https://xn--sdkxbl4d.club/events/%e6%b5%9c%e6%9d%be%e3%83%aa%e3%83%bc%
 e3%82%b0/
SUMMARY:浜松リーグ
DESCRIPTION:
CATEGORIES:大会
END:VEVENT
BEGIN:VTIMEZONE
TZID:Asia/Tokyo
X-LIC-LOCATION:Asia/Tokyo
BEGIN:STANDARD
DTSTART:20220611T000000
TZOFFSETFROM:+0900
TZOFFSETTO:+0900
TZNAME:JST
END:STANDARD
END:VTIMEZONE
END:VCALENDAR