BEGIN:VCALENDAR
VERSION:2.0
PRODID:-//wp-events-plugin.com//7.2.3.1//EN
TZID:Asia/Tokyo
X-WR-TIMEZONE:Asia/Tokyo
BEGIN:VEVENT
UID:132@xn--sdkxbl4d.club
DTSTART;TZID=Asia/Tokyo:20241026T000000
DTEND;TZID=Asia/Tokyo:20241026T000000
DTSTAMP:20241003T230128Z
URL:https://xn--sdkxbl4d.club/events/%e6%b5%9c%e6%9d%be%e3%83%ac%e3%83%87%
 e3%82%a3%e3%83%bc%e3%82%b9/
SUMMARY:浜松レディース
DESCRIPTION:
CATEGORIES:大会
LOCATION:雄踏総合体育館\, 雄踏町宇布見９９８１−１\, 浜
 松市西区\, 静岡県\, 〒431-0102 \, 日本
X-APPLE-STRUCTURED-LOCATION;VALUE=URI;X-ADDRESS=雄踏町宇布見９９８
 １−１\, 浜松市西区\, 静岡県\, 〒431-0102 \, 日本;X-APPLE-RA
 DIUS=100;X-TITLE=雄踏総合体育館:geo:0,0
END:VEVENT
BEGIN:VTIMEZONE
TZID:Asia/Tokyo
X-LIC-LOCATION:Asia/Tokyo
BEGIN:STANDARD
DTSTART:20231027T000000
TZOFFSETFROM:+0900
TZOFFSETTO:+0900
TZNAME:JST
END:STANDARD
END:VTIMEZONE
END:VCALENDAR