BEGIN:VCALENDAR
VERSION:2.0
PRODID:-//wp-events-plugin.com//7.2.3.1//EN
TZID:Asia/Tokyo
X-WR-TIMEZONE:Asia/Tokyo
BEGIN:VEVENT
UID:97@xn--sdkxbl4d.club
DTSTART;TZID=Asia/Tokyo;VALUE=DATE:20240226
DTEND;TZID=Asia/Tokyo;VALUE=DATE:20240227
DTSTAMP:20240203T060430Z
URL:https://xn--sdkxbl4d.club/events/%e6%b5%9c%e6%9d%be%e5%8d%93%e7%90%83%
 e3%83%aa%e3%83%bc%e3%82%b0%ef%bc%88%e5%be%8c%e6%9c%9f%ef%bc%89/
SUMMARY:浜松卓球リーグ（後期）
DESCRIPTION:
CATEGORIES:大会
END:VEVENT
BEGIN:VTIMEZONE
TZID:Asia/Tokyo
X-LIC-LOCATION:Asia/Tokyo
BEGIN:STANDARD
DTSTART:20230226T000000
TZOFFSETFROM:+0900
TZOFFSETTO:+0900
TZNAME:JST
END:STANDARD
END:VTIMEZONE
END:VCALENDAR