BEGIN:VCALENDAR
VERSION:2.0
PRODID:-//wp-events-plugin.com//7.2.3.1//EN
TZID:Asia/Tokyo
X-WR-TIMEZONE:Asia/Tokyo
BEGIN:VEVENT
UID:108@xn--sdkxbl4d.club
DTSTART;TZID=Asia/Tokyo;VALUE=DATE:20240825
DTEND;TZID=Asia/Tokyo;VALUE=DATE:20240826
DTSTAMP:20240408T034219Z
URL:https://xn--sdkxbl4d.club/events/%e7%ac%ac42%e5%9b%9e%e5%a4%8f%e5%ad%a
 3%e5%80%8b%e4%ba%ba%e6%88%a6/
SUMMARY:第42回夏季個人戦
DESCRIPTION:
CATEGORIES:大会
LOCATION:浜北総合体育館\, 平口５０４２−１３３\, 浜松市
 浜北区\, 静岡県\, 〒434-0041\, 日本
X-APPLE-STRUCTURED-LOCATION;VALUE=URI;X-ADDRESS=平口５０４２−１３
 ３\, 浜松市浜北区\, 静岡県\, 〒434-0041\, 日本;X-APPLE-RADIUS
 =100;X-TITLE=浜北総合体育館:geo:0,0
END:VEVENT
BEGIN:VTIMEZONE
TZID:Asia/Tokyo
X-LIC-LOCATION:Asia/Tokyo
BEGIN:STANDARD
DTSTART:20230826T000000
TZOFFSETFROM:+0900
TZOFFSETTO:+0900
TZNAME:JST
END:STANDARD
END:VTIMEZONE
END:VCALENDAR