BEGIN:VCALENDAR
VERSION:2.0
PRODID:-//wp-events-plugin.com//7.2.3.1//EN
TZID:Asia/Tokyo
X-WR-TIMEZONE:Asia/Tokyo
BEGIN:VEVENT
UID:180@xn--sdkxbl4d.club
DTSTART;TZID=Asia/Tokyo:20260219T190000
DTEND;TZID=Asia/Tokyo:20260219T213000
DTSTAMP:20260104T103406Z
URL:https://xn--sdkxbl4d.club/events/2%e6%9c%88%e7%b7%b4%e7%bf%92%e6%97%a5
 -3/
SUMMARY:2月練習日
DESCRIPTION:
CATEGORIES:練習日
LOCATION:伊佐見協働センター\, 〒431-1111 静岡県浜松市中央
 区伊左地町４５\, 浜松市中央区伊左地町４５\, 静岡県\,
  431-1111\, 日本
X-APPLE-STRUCTURED-LOCATION;VALUE=URI;X-ADDRESS=〒431-1111 静岡県浜松
 市中央区伊左地町４５\, 浜松市中央区伊左地町４５\, 
 静岡県\, 431-1111\, 日本;X-APPLE-RADIUS=100;X-TITLE=伊佐見協働
 センター:geo:0,0
END:VEVENT
BEGIN:VTIMEZONE
TZID:Asia/Tokyo
X-LIC-LOCATION:Asia/Tokyo
BEGIN:STANDARD
DTSTART:20250219T190000
TZOFFSETFROM:+0900
TZOFFSETTO:+0900
TZNAME:JST
END:STANDARD
END:VTIMEZONE
END:VCALENDAR