BEGIN:VCALENDAR
VERSION:2.0
PRODID:-//wp-events-plugin.com//7.2.3.1//EN
TZID:Asia/Tokyo
X-WR-TIMEZONE:Asia/Tokyo
BEGIN:VEVENT
UID:107@xn--sdkxbl4d.club
DTSTART;TZID=Asia/Tokyo;VALUE=DATE:20241222
DTEND;TZID=Asia/Tokyo;VALUE=DATE:20241223
DTSTAMP:20240408T034054Z
URL:https://xn--sdkxbl4d.club/events/2024%e5%b9%b4%e5%ba%a6%e5%be%8c%e6%9c
 %9f%e6%b5%9c%e6%9d%be%e5%8d%93%e7%90%83%e3%83%aa%e3%83%bc%e3%82%b0/
SUMMARY:2024年度後期浜松卓球リーグ
DESCRIPTION:
CATEGORIES:練習日
LOCATION:浜松アリーナ\, 和田町808-1\, 浜松市中央区\, 静岡
 県\, 435-0016\, 日本
X-APPLE-STRUCTURED-LOCATION;VALUE=URI;X-ADDRESS=和田町808-1\, 浜松市
 中央区\, 静岡県\, 435-0016\, 日本;X-APPLE-RADIUS=100;X-TITLE=浜
 松アリーナ:geo:0,0
END:VEVENT
BEGIN:VTIMEZONE
TZID:Asia/Tokyo
X-LIC-LOCATION:Asia/Tokyo
BEGIN:STANDARD
DTSTART:20231223T000000
TZOFFSETFROM:+0900
TZOFFSETTO:+0900
TZNAME:JST
END:STANDARD
END:VTIMEZONE
END:VCALENDAR