BEGIN:VCALENDAR
VERSION:2.0
PRODID:-//wp-events-plugin.com//7.2.3.1//EN
TZID:Asia/Tokyo
X-WR-TIMEZONE:Asia/Tokyo
BEGIN:VEVENT
UID:57@xn--sdkxbl4d.club
DTSTART;TZID=Asia/Tokyo;VALUE=DATE:20230604
DTEND;TZID=Asia/Tokyo;VALUE=DATE:20230605
DTSTAMP:20230604T133420Z
URL:https://xn--sdkxbl4d.club/events/3s%e5%9b%a3%e4%bd%93%e6%88%a6/
SUMMARY:3S団体戦
DESCRIPTION:
CATEGORIES:大会
END:VEVENT
BEGIN:VTIMEZONE
TZID:Asia/Tokyo
X-LIC-LOCATION:Asia/Tokyo
BEGIN:STANDARD
DTSTART:20220604T000000
TZOFFSETFROM:+0900
TZOFFSETTO:+0900
TZNAME:JST
END:STANDARD
END:VTIMEZONE
END:VCALENDAR